BEGIN:VCALENDAR
VERSION:2.0
PRODID:-//Woodworks Yoga - ECPv6.15.17.1//NONSGML v1.0//EN
CALSCALE:GREGORIAN
METHOD:PUBLISH
X-ORIGINAL-URL:https://www.woodworksyoga.nl
X-WR-CALDESC:Evenementen voor Woodworks Yoga
REFRESH-INTERVAL;VALUE=DURATION:PT1H
X-Robots-Tag:noindex
X-PUBLISHED-TTL:PT1H
BEGIN:VTIMEZONE
TZID:UTC
BEGIN:STANDARD
TZOFFSETFROM:+0000
TZOFFSETTO:+0000
TZNAME:UTC
DTSTART:20180101T000000
END:STANDARD
END:VTIMEZONE
BEGIN:VEVENT
DTSTART;TZID=UTC:20190121T203000
DTEND;TZID=UTC:20190121T203000
DTSTAMP:20260420T103259
CREATED:20190116T155240Z
LAST-MODIFIED:20190116T155842Z
UID:15381-1548102600-1548102600@www.woodworksyoga.nl
SUMMARY:Power Vinyasa
DESCRIPTION:20:30 Power Vinyasa door Maarten van der Woude
URL:https://www.woodworksyoga.nl/event/power-vinyasa/
CATEGORIES:Yoga
END:VEVENT
BEGIN:VEVENT
DTSTART;TZID=UTC:20190121T080000
DTEND;TZID=UTC:20190121T170000
DTSTAMP:20260420T103259
CREATED:20190117T135538Z
LAST-MODIFIED:20190117T135538Z
UID:15582-1548057600-1548090000@www.woodworksyoga.nl
SUMMARY:YogaLes
DESCRIPTION:MAandag eerste test les
URL:https://www.woodworksyoga.nl/event/yogales/
CATEGORIES:Yoga
END:VEVENT
END:VCALENDAR